BEGIN:VCALENDAR
VERSION:2.0
PRODID:-//Saginaw Valley Chapter – American Guild of Organists - ECPv6.15.11//NONSGML v1.0//EN
CALSCALE:GREGORIAN
METHOD:PUBLISH
X-ORIGINAL-URL:https://saginawago.com
X-WR-CALDESC:Events for Saginaw Valley Chapter – American Guild of Organists
REFRESH-INTERVAL;VALUE=DURATION:PT1H
X-Robots-Tag:noindex
X-PUBLISHED-TTL:PT1H
BEGIN:VTIMEZONE
TZID:America/Detroit
BEGIN:DAYLIGHT
TZOFFSETFROM:-0500
TZOFFSETTO:-0400
TZNAME:EDT
DTSTART:20240310T070000
END:DAYLIGHT
BEGIN:STANDARD
TZOFFSETFROM:-0400
TZOFFSETTO:-0500
TZNAME:EST
DTSTART:20241103T060000
END:STANDARD
BEGIN:DAYLIGHT
TZOFFSETFROM:-0500
TZOFFSETTO:-0400
TZNAME:EDT
DTSTART:20250309T070000
END:DAYLIGHT
BEGIN:STANDARD
TZOFFSETFROM:-0400
TZOFFSETTO:-0500
TZNAME:EST
DTSTART:20251102T060000
END:STANDARD
BEGIN:DAYLIGHT
TZOFFSETFROM:-0500
TZOFFSETTO:-0400
TZNAME:EDT
DTSTART:20260308T070000
END:DAYLIGHT
BEGIN:STANDARD
TZOFFSETFROM:-0400
TZOFFSETTO:-0500
TZNAME:EST
DTSTART:20261101T060000
END:STANDARD
END:VTIMEZONE
BEGIN:VEVENT
DTSTART;TZID=America/Detroit:20251109T160000
DTEND;TZID=America/Detroit:20251109T173000
DTSTAMP:20260425T132621
CREATED:20250914T221331Z
LAST-MODIFIED:20251027T023945Z
UID:23-1762704000-1762709400@saginawago.com
SUMMARY:Kent Dennis Memorial Recital
DESCRIPTION:The Saginaw Valley Chapter of the American Guild of Organists presents this annual event which features Guild members and previous recipients of the Kent Dennis Memorial Scholarship. It is free\, open to the public\, and family-friendly. It takes place in the Sanctuary\, followed by a reception. RSVP on Facebook. \nWe encourage attendance in person\, but the event is also available via live stream at https://mempres.org/live-streaming. \nDonations are accepted to fund our scholarship that supports organ students.
URL:https://saginawago.com/event/kent-dennis-memorial-recital/
LOCATION:Memorial Presbyterian Church\, 1310 Ashman St\, Midland\, MI\, 48640-5429\, United States
END:VEVENT
END:VCALENDAR