BEGIN:VCALENDAR
VERSION:2.0
PRODID:-//Saginaw Valley Chapter – American Guild of Organists - ECPv6.15.11//NONSGML v1.0//EN
CALSCALE:GREGORIAN
METHOD:PUBLISH
X-WR-CALNAME:Saginaw Valley Chapter – American Guild of Organists
X-ORIGINAL-URL:https://saginawago.com
X-WR-CALDESC:Events for Saginaw Valley Chapter – American Guild of Organists
REFRESH-INTERVAL;VALUE=DURATION:PT1H
X-Robots-Tag:noindex
X-PUBLISHED-TTL:PT1H
BEGIN:VTIMEZONE
TZID:America/Detroit
BEGIN:DAYLIGHT
TZOFFSETFROM:-0500
TZOFFSETTO:-0400
TZNAME:EDT
DTSTART:20240310T070000
END:DAYLIGHT
BEGIN:STANDARD
TZOFFSETFROM:-0400
TZOFFSETTO:-0500
TZNAME:EST
DTSTART:20241103T060000
END:STANDARD
BEGIN:DAYLIGHT
TZOFFSETFROM:-0500
TZOFFSETTO:-0400
TZNAME:EDT
DTSTART:20250309T070000
END:DAYLIGHT
BEGIN:STANDARD
TZOFFSETFROM:-0400
TZOFFSETTO:-0500
TZNAME:EST
DTSTART:20251102T060000
END:STANDARD
BEGIN:DAYLIGHT
TZOFFSETFROM:-0500
TZOFFSETTO:-0400
TZNAME:EDT
DTSTART:20260308T070000
END:DAYLIGHT
BEGIN:STANDARD
TZOFFSETFROM:-0400
TZOFFSETTO:-0500
TZNAME:EST
DTSTART:20261101T060000
END:STANDARD
END:VTIMEZONE
BEGIN:VEVENT
DTSTART;TZID=America/Detroit:20250920T143000
DTEND;TZID=America/Detroit:20250920T160000
DTSTAMP:20260425T185416
CREATED:20250914T215251Z
LAST-MODIFIED:20250914T223329Z
UID:15-1758378600-1758384000@saginawago.com
SUMMARY:Stephen O'Baker\, Organ - Organist of Iowa [Remote/Livestream]
DESCRIPTION:Stephen O’Baker\, Mount Pleasant native and former student of Dr. Steven Egler\, has been afforded the distinct honor of being named Organist of Iowa for 2025 by the Iowa State University Department of Music and Theatre in Ames\, Iowa. Stephen is a fine player whose performance promises to be a wonderful experience with some interesting and varied repertoire. Please watch the livestream it if you are able to. \nLivestream: https://www.music.iastate.edu/recital-hall-livestream \nTime and Location: \n1:30 p.m. Central time (local) / 2:30 p.m. Eastern time (for livestreaming in Michigan) \nMartha-Ellen Tye Recital Hall\nSimon Estes Music Hall\nIowa State University\n2427 Union Dr\nAmes IA 50011 \nProgram: \nOverture to Talestri\, regina delle amazzoni by Maria Antonia Walpurgis (1724–1780)\, Germany. Transcribed by Anne Marsden Thomas (b. 1948)\, England. \nConcerto in C Major\, BWV 592 by Prince Johann Ernst of Saxe-Weimar (1696–1715)\, Germany. Transcribed by Johann Sebastian Bach (1685–1750)\, Germany. \nLaudate for Organ by Ruth Zechlin (1926–2007)\, Germany. \nRicercar\,  SwWV 280 by Jan Pieterszoon Sweelinck (1562–1621)\, The Netherlands. \nA Quaker Reader by Ned Rorem (1923–2022)\, United States. \n\nNo. 4. “There Is a Spirit that Delights to Do No Evil”\nNo. 5. “The World of Silence”\nNo. 6. “Bewitching Attire of the Most Charming Simplicity”\nNo. 7. “A Secret Power”\nNo. 8. “No Darkness at All”\n\nVariations and Fugue on “Jesu\, meine Freude” by Doy M. Baker (1917-2002)\, United States. \nMoto Ostinato by Petr Eben (1929–2007)\, Czech Republic
URL:https://saginawago.com/event/stephen-baker-organ-organist-of-iowa-remote-livestream/
LOCATION:MI
END:VEVENT
END:VCALENDAR