BEGIN:VCALENDAR
VERSION:2.0
PRODID:-//Saginaw Valley Chapter – American Guild of Organists - ECPv6.15.11//NONSGML v1.0//EN
CALSCALE:GREGORIAN
METHOD:PUBLISH
X-ORIGINAL-URL:https://saginawago.com
X-WR-CALDESC:Events for Saginaw Valley Chapter – American Guild of Organists
REFRESH-INTERVAL;VALUE=DURATION:PT1H
X-Robots-Tag:noindex
X-PUBLISHED-TTL:PT1H
BEGIN:VTIMEZONE
TZID:America/Detroit
BEGIN:DAYLIGHT
TZOFFSETFROM:-0500
TZOFFSETTO:-0400
TZNAME:EDT
DTSTART:20240310T070000
END:DAYLIGHT
BEGIN:STANDARD
TZOFFSETFROM:-0400
TZOFFSETTO:-0500
TZNAME:EST
DTSTART:20241103T060000
END:STANDARD
BEGIN:DAYLIGHT
TZOFFSETFROM:-0500
TZOFFSETTO:-0400
TZNAME:EDT
DTSTART:20250309T070000
END:DAYLIGHT
BEGIN:STANDARD
TZOFFSETFROM:-0400
TZOFFSETTO:-0500
TZNAME:EST
DTSTART:20251102T060000
END:STANDARD
BEGIN:DAYLIGHT
TZOFFSETFROM:-0500
TZOFFSETTO:-0400
TZNAME:EDT
DTSTART:20260308T070000
END:DAYLIGHT
BEGIN:STANDARD
TZOFFSETFROM:-0400
TZOFFSETTO:-0500
TZNAME:EST
DTSTART:20261101T060000
END:STANDARD
BEGIN:DAYLIGHT
TZOFFSETFROM:-0500
TZOFFSETTO:-0400
TZNAME:EDT
DTSTART:20270314T070000
END:DAYLIGHT
BEGIN:STANDARD
TZOFFSETFROM:-0400
TZOFFSETTO:-0500
TZNAME:EST
DTSTART:20271107T060000
END:STANDARD
END:VTIMEZONE
BEGIN:VEVENT
DTSTART;TZID=America/Detroit:20251004T130000
DTEND;TZID=America/Detroit:20251004T143000
DTSTAMP:20260425T151501
CREATED:20250914T223521Z
LAST-MODIFIED:20251002T033350Z
UID:32-1759582800-1759588200@saginawago.com
SUMMARY:Patricia Bowen\, Organ
DESCRIPTION:The Art of Performance concert series at First Congregational Church of Saginaw. \n\nFanfare\nWilliam Mathias (1934-1992) \nFantasia in G Major\, BWV 572\nJohann Sebastian Bach (1685-1750) \nSuite Médiévale\, Opus 56\nJean Langlais (1907–1991) \n\nPrélude\nTiento\nImprovisation\nMéditation\nAcclamations\n\nBeside the Still Waters\nGwyneth Walker (1947- )\n(played in memory of the Saginaw Valley Chapter Organ Guild members who have passed on) \nCarillon\nHerbert Murrill (1909-1952) \nThis program is generously sponsored by the locally based motion picture production company\, Good Harbor Blue\, Inc.\, Taylor Gradowski\, Owner/Director/Producer\, <goodharborblue.com> \nAdditional support was graciously provided by Scott Smith and Joseph Granger\, builders of the renovated E. M. Skinner Organ 1929/2015 and who tuned the organ for today’s program. Scott Smith Pipe Organs LLC.
URL:https://saginawago.com/event/patricia-bowen-organ/
LOCATION:First Congregational Church of Saginaw\, 403 S Jefferson Ave\, Saginaw\, MI\, 48607-1174\, United States
END:VEVENT
BEGIN:VEVENT
DTSTART;TZID=America/Detroit:20251026T150000
DTEND;TZID=America/Detroit:20251026T163000
DTSTAMP:20260425T151501
CREATED:20250914T221534Z
LAST-MODIFIED:20251002T034922Z
UID:20-1761490800-1761496200@saginawago.com
SUMMARY:Pipe Screams!
DESCRIPTION:A spooktacular\, family-friendly program\, featuring a variety of instruments\, including the “King of Instruments”—THE ORGAN! \nCostume-clad performers grace the stage with their musical skills. Come and enjoy! Costumes encouraged! \nSuggested donations: \n\nAges 0-9: FREE\nAges 10-17: $3.00\nAges 18+: $5.00\n\n 
URL:https://saginawago.com/event/pipe-screams/
LOCATION:First Congregational Church of Saginaw\, 403 S Jefferson Ave\, Saginaw\, MI\, 48607-1174\, United States
END:VEVENT
BEGIN:VEVENT
DTSTART;TZID=America/Detroit:20251102T150000
DTEND;TZID=America/Detroit:20251102T160000
DTSTAMP:20260425T151501
CREATED:20251010T233410Z
LAST-MODIFIED:20251010T233528Z
UID:80-1762095600-1762099200@saginawago.com
SUMMARY:Fauré's Requiem
DESCRIPTION:In honor of the feast of ALL SOULS’ DAY\, Assumption Cathedral presents a timeless musical setting of the ancient prayers of the Mass for the Dead. \nThis performance will feature choir\, organ\, and chamber orchestra together. \nFree admission | Free-will offering
URL:https://saginawago.com/event/faures-requiem/
LOCATION:Cathedral of Mary of the Assumption\, 615 Hoyt Ave\, Saginaw\, MI\, 48607-1713\, United States
END:VEVENT
BEGIN:VEVENT
DTSTART;TZID=America/Detroit:20251109T160000
DTEND;TZID=America/Detroit:20251109T173000
DTSTAMP:20260425T151501
CREATED:20250914T221331Z
LAST-MODIFIED:20251027T023945Z
UID:23-1762704000-1762709400@saginawago.com
SUMMARY:Kent Dennis Memorial Recital
DESCRIPTION:The Saginaw Valley Chapter of the American Guild of Organists presents this annual event which features Guild members and previous recipients of the Kent Dennis Memorial Scholarship. It is free\, open to the public\, and family-friendly. It takes place in the Sanctuary\, followed by a reception. RSVP on Facebook. \nWe encourage attendance in person\, but the event is also available via live stream at https://mempres.org/live-streaming. \nDonations are accepted to fund our scholarship that supports organ students.
URL:https://saginawago.com/event/kent-dennis-memorial-recital/
LOCATION:Memorial Presbyterian Church\, 1310 Ashman St\, Midland\, MI\, 48640-5429\, United States
END:VEVENT
BEGIN:VEVENT
DTSTART;TZID=America/Detroit:20251129T130000
DTEND;TZID=America/Detroit:20251129T143000
DTSTAMP:20260425T151501
CREATED:20250914T223719Z
LAST-MODIFIED:20251117T155651Z
UID:34-1764421200-1764426600@saginawago.com
SUMMARY:Thomas Heidenreich\, Organ
DESCRIPTION:The Art of Performance concert series at First Congregational Church of Saginaw. \nThe program will include the world premiere of “Three Christmas Poems” by the late Saginaw poet\, Margaret Rorke\, and composed by Collin Whitfield. Erin Whitfield will be the soprano soloist. \nOpen to the public. Free-will offering. Contact 989-754-6565 for further information.
URL:https://saginawago.com/event/thomas-heidenreich-organ/
LOCATION:First Congregational Church of Saginaw\, 403 S Jefferson Ave\, Saginaw\, MI\, 48607-1174\, United States
END:VEVENT
BEGIN:VEVENT
DTSTART;TZID=America/Detroit:20260301T160000
DTEND;TZID=America/Detroit:20260301T180000
DTSTAMP:20260425T151501
CREATED:20260207T224236Z
LAST-MODIFIED:20260207T224642Z
UID:120-1772380800-1772388000@saginawago.com
SUMMARY:Triduum Prisms: Thomas Heidenreich\, Organ
DESCRIPTION:On Sunday\, March 1\, at 4 PM\, Thomas Heidenreich will be playing an hour-long organ recital at First Presbyterian Church of Flint. The recital is called Triduum Prisms and will feature music reflecting on Lent and Holy Week. \nA reception will follow.
URL:https://saginawago.com/event/2026-03-01-triduum-prisms-thomas-heidenreich-organ/
LOCATION:First Presbyterian Church of Flint\, 746 S Saginaw St\, Flint\, MI\, 48502-1508\, United States
END:VEVENT
BEGIN:VEVENT
DTSTART;TZID=America/Detroit:20260307T130000
DTEND;TZID=America/Detroit:20260307T143000
DTSTAMP:20260425T151501
CREATED:20250914T223815Z
LAST-MODIFIED:20260202T231642Z
UID:38-1772888400-1772893800@saginawago.com
SUMMARY:Timothy Nechuta\, Organ
DESCRIPTION:The Art of Performance concert series at First Congregational Church of Saginaw. \nTimothy Nechuta is a graduate of Hope College in Holland\, Michigan\, and is organist at St. Matthew Lutheran Church in Holt\, Michigan.
URL:https://saginawago.com/event/2026-03-07-timothy-nechuta-organ/
LOCATION:First Congregational Church of Saginaw\, 403 S Jefferson Ave\, Saginaw\, MI\, 48607-1174\, United States
END:VEVENT
BEGIN:VEVENT
DTSTART;VALUE=DATE:20260327
DTEND;VALUE=DATE:20260328
DTSTAMP:20260425T151501
CREATED:20260112T165524Z
LAST-MODIFIED:20260112T173539Z
UID:94-1774569600-1774655999@saginawago.com
SUMMARY:Auditions: Kent S. Dennis Memorial Scholarship
DESCRIPTION:Scholarship applicants will complete their applications by auditioning.
URL:https://saginawago.com/event/2026-03-27-auditions-kent-s-dennis-memorial-scholarship/
LOCATION:Memorial Presbyterian Church\, 1310 Ashman St\, Midland\, MI\, 48640-5429\, United States
END:VEVENT
BEGIN:VEVENT
DTSTART;TZID=America/Detroit:20260502T130000
DTEND;TZID=America/Detroit:20260502T143000
DTSTAMP:20260425T151501
CREATED:20250914T223901Z
LAST-MODIFIED:20260403T161348Z
UID:40-1777726800-1777732200@saginawago.com
SUMMARY:Mark Mitchell\, Organ
DESCRIPTION:The Art of Performance concert series at First Congregational Church of Saginaw. \nFree admission. For more information\, call 989-754-6565 or 989-898-8242\, or visit the church website. \nProgram:\nDavid German’s rousing and furious Fanfare\nGaston Bellier’s touchy Toccata in D Minor\nBach’s basic Fugue in G Minor\nLouis Vierne’s beautiful Berceuse\nGerald Near’s awesome Adagietto\nCharles Ore’s friendly and fast “What a Friend We Have in Jesus”
URL:https://saginawago.com/event/2026-05-02-mark-mitchell-organ/
LOCATION:First Congregational Church of Saginaw\, 403 S Jefferson Ave\, Saginaw\, MI\, 48607-1174\, United States
END:VEVENT
END:VCALENDAR